BEGIN:VCALENDAR
VERSION:2.0
CALSCALE:GREGORIAN
PRODID:adamgibbons/ics
METHOD:PUBLISH
X-PUBLISHED-TTL:PT1H
BEGIN:VEVENT
UID:20442@offbeat.amsterdam
SUMMARY:Kunstbende Finale
DTSTAMP:20260421T101154Z
DTSTART:20260627T093000Z
URL:https://offbeat.amsterdam/event/kunstbende-finale
GEO:52.3647777;4.881073026725959
LOCATION:Melkweg - Lijnbaansgracht 234A\, 1017 PH Amsterdam
STATUS:CONFIRMED
CATEGORIES:amsterdam-centrum,leidseplein,verhuur non-profit
END:VEVENT
BEGIN:VEVENT
UID:20275@offbeat.amsterdam
SUMMARY:SameZitting
DTSTAMP:20260421T101154Z
DTSTART:20270116T090000Z
URL:https://offbeat.amsterdam/event/samezitting
GEO:52.3647777;4.881073026725959
LOCATION:Melkweg - Lijnbaansgracht 234A\, 1017 PH Amsterdam
STATUS:CONFIRMED
CATEGORIES:amsterdam-centrum,verhuur non-profit,carnival,leidseplein
END:VEVENT
END:VCALENDAR
